BEGIN:VCALENDAR
VERSION:2.0
PRODID:-//OmniMagnetCalendar//EN
BEGIN:VEVENT
DTSTAMP:20190625T195740Z
STATUS:CONFIRMED
UID:hcprinceton.clubs.harvard.edu726
DTSTART:20260227T003000Z
DTEND:20260227T020000Z
LOCATION:ZOOM,
SUMMARY:CAN SCHOOL BOARDS SAVE OUR DEMOCRACY?
DESCRIPTION:Virtual author talk with Scott Levy '94
BEGIN:VALARM
TRIGGER:-PT15M
ACTION:DISPLAY
END:VALARM
TRANSP:OPAQUE
END:VEVENT
END:VCALENDAR
