BEGIN:VCALENDAR
VERSION:2.0
PRODID:-//OmniMagnetCalendar//EN
BEGIN:VEVENT
DTSTAMP:20190625T195740Z
STATUS:CONFIRMED
UID:hcprinceton.clubs.harvard.edu717
DTSTART:20260123T230000Z
DTEND:
LOCATION:Yankee Doodle Tap Room in the Nassau Inn, Princeton, NJ, 08542,
SUMMARY:RECENT GRAD HARVARD TGIF - 6pm January 23
DESCRIPTION:If you graduated from Harvard in 2010 or later, join us for a special edition TGIF
BEGIN:VALARM
TRIGGER:-PT15M
ACTION:DISPLAY
END:VALARM
TRANSP:OPAQUE
END:VEVENT
END:VCALENDAR
