BEGIN:VCALENDAR
VERSION:2.0
PRODID:-//OmniMagnetCalendar//EN
BEGIN:VEVENT
DTSTAMP:20190625T195740Z
STATUS:CONFIRMED
UID:hcprinceton.clubs.harvard.edu710
DTSTART:20251209T000000Z
DTEND:
LOCATION:TBD, Princeton , NJ, 08542, United States,
SUMMARY:HARVARD CLUB OF PRINCETON BOOK CLUB - MONDAY DECEMBER 8
DESCRIPTION:
BEGIN:VALARM
TRIGGER:-PT15M
ACTION:DISPLAY
END:VALARM
TRANSP:OPAQUE
END:VEVENT
END:VCALENDAR
