BEGIN:VCALENDAR
VERSION:2.0
PRODID:-//OmniMagnetCalendar//EN
BEGIN:VEVENT
DTSTAMP:20190625T195740Z
STATUS:CONFIRMED
UID:hcprinceton.clubs.harvard.edu709
DTSTART:20251022T143000Z
DTEND:20251022T200000Z
LOCATION:Frist Campus Center Multipurpose Rooms A-C, Princeton, NJ, 08544, United States,
SUMMARY:PRINCETON INNOVATION FORUM 2025
DESCRIPTION:A HARVARD AT PRINCETON EVENT
BEGIN:VALARM
TRIGGER:-PT15M
ACTION:DISPLAY
END:VALARM
TRANSP:OPAQUE
END:VEVENT
END:VCALENDAR
