BEGIN:VCALENDAR
VERSION:2.0
PRODID:-//OmniMagnetCalendar//EN
BEGIN:VEVENT
DTSTAMP:20190625T195740Z
STATUS:CONFIRMED
UID:hcprinceton.clubs.harvard.edu706
DTSTART:20260116T230000Z
DTEND:
LOCATION:Hobey Baker Memorial Rink , 200 Elm Drive , Princeton, NJ, 08544,
SUMMARY:HARVARD PRINCETON WOMEN'S ICE HOCKEY - JANUARY 16
DESCRIPTION:
BEGIN:VALARM
TRIGGER:-PT15M
ACTION:DISPLAY
END:VALARM
TRANSP:OPAQUE
END:VEVENT
END:VCALENDAR
