BEGIN:VCALENDAR
VERSION:2.0
PRODID:-//OmniMagnetCalendar//EN
BEGIN:VEVENT
DTSTAMP:20190625T195740Z
STATUS:CONFIRMED
UID:hcprinceton.clubs.harvard.edu695
DTSTART:20260129T000000Z
DTEND:
LOCATION:McCarter Theatre, 91 University Place, Princeton, NJ, 08540, United States of America,
SUMMARY:KIM'S CONVENIENCE / SOLD OUT
DESCRIPTION:At Mr. Kim’s corner variety store, the only thing that isn’t for sale is his family's legacy.
BEGIN:VALARM
TRIGGER:-PT15M
ACTION:DISPLAY
END:VALARM
TRANSP:OPAQUE
END:VEVENT
END:VCALENDAR
