BEGIN:VCALENDAR
VERSION:2.0
PRODID:-//OmniMagnetCalendar//EN
BEGIN:VEVENT
DTSTAMP:20190625T195740Z
STATUS:CONFIRMED
UID:hcprinceton.clubs.harvard.edu690
DTSTART:20251026T183000Z
DTEND:
LOCATION:McCarter Theatre, 91 University Place, Princeton, NJ, 08540, United States of America,
SUMMARY:SMASH, BOOM, BEST - LIVE!!!
DESCRIPTION:BRING THE KIDS!!!  Recommended for kids ages 6 through 12 and their families!!!  Each show takes two cool things, smashes them together with jokes, physical comedy, and song and dance...  And then lets the audience decide which is best!!!
BEGIN:VALARM
TRIGGER:-PT15M
ACTION:DISPLAY
END:VALARM
TRANSP:OPAQUE
END:VEVENT
END:VCALENDAR
