BEGIN:VCALENDAR
VERSION:2.0
PRODID:-//OmniMagnetCalendar//EN
BEGIN:VEVENT
DTSTAMP:20190625T195740Z
STATUS:CONFIRMED
UID:hcprinceton.clubs.harvard.edu689
DTSTART:20251024T230000Z
DTEND:
LOCATION:McCarter Theatre, 91 University Place, Princeton, NJ, 08540, United States of America,
SUMMARY:ANDY BOROWITZ: AN EVENING OF INSANITY / SOLD OUT
DESCRIPTION:Join celebrated satirist, Harvard Alumni, and Past-President of the Harvard Lampoon for an evening of sharp comedy, audience Q&A, and candid conversation.  Andy Borowitz delivers a hilarious (and much-needed) break from the chaos of today's world.
BEGIN:VALARM
TRIGGER:-PT15M
ACTION:DISPLAY
END:VALARM
TRANSP:OPAQUE
END:VEVENT
END:VCALENDAR
