BEGIN:VCALENDAR
VERSION:2.0
PRODID:-//OmniMagnetCalendar//EN
BEGIN:VEVENT
DTSTAMP:20190625T195740Z
STATUS:CONFIRMED
UID:hcprinceton.clubs.harvard.edu687
DTSTART:20251122T163000Z
DTEND:
LOCATION:Brick House Tavern & Tap, 3569 US Route 1, (North End of Market Fair), Princeton, NJ, 08540,
SUMMARY:HARVARD VS YALE FOOTBALL WATCH PARTY
DESCRIPTION:9-0 Crimson vs 7-2 Yale = EPIC!
BEGIN:VALARM
TRIGGER:-PT15M
ACTION:DISPLAY
END:VALARM
TRANSP:OPAQUE
END:VEVENT
END:VCALENDAR
