BEGIN:VCALENDAR
VERSION:2.0
PRODID:-//OmniMagnetCalendar//EN
BEGIN:VEVENT
DTSTAMP:20190625T195740Z
STATUS:CONFIRMED
UID:hcprinceton.clubs.harvard.edu677
DTSTART:20251121T220000Z
DTEND:
LOCATION:Yankee Doodle Tap Room in the Nassau Inn, 10 Palmer Sq E, Princeton, NJ, 08542,
SUMMARY:HARVARD CRIMSON COCKTAILS - November 21, Yankee Doodle Tap Room
DESCRIPTION:If you are interested in lively conversation and networking with fellow alumni, join us for Crimson Cocktails.  We meet on the third Friday of each month.
BEGIN:VALARM
TRIGGER:-PT15M
ACTION:DISPLAY
END:VALARM
TRANSP:OPAQUE
END:VEVENT
END:VCALENDAR
