BEGIN:VCALENDAR
VERSION:2.0
PRODID:-//OmniMagnetCalendar//EN
BEGIN:VEVENT
DTSTAMP:20190625T195740Z
STATUS:CONFIRMED
UID:hcprinceton.clubs.harvard.edu663
DTSTART:20251025T140000Z
DTEND:
LOCATION:Tailgate - NorthEast Corner of Princeton Parking Lot P20, United States of America,
SUMMARY:HARVARD VS PRINCETON FOOTBALL TAILGATE & GAME (GAME TICKETS SOLD OUT)
DESCRIPTION:Join fellow alumni for an action-packed day of football as our beloved Crimson takes on and crushes the Princeton Tigers!.
BEGIN:VALARM
TRIGGER:-PT15M
ACTION:DISPLAY
END:VALARM
TRANSP:OPAQUE
END:VEVENT
END:VCALENDAR
