BEGIN:VCALENDAR
VERSION:2.0
PRODID:-//OmniMagnetCalendar//EN
BEGIN:VEVENT
DTSTAMP:20190625T195740Z
STATUS:CONFIRMED
UID:hcprinceton.clubs.harvard.edu660
DTSTART:20250930T230000Z
DTEND:
LOCATION:Brick House Tavern & Tap, 3569 US Route 1, (North End of Market Fair), Princeton, NJ, 08540, United States of America,
SUMMARY:"WELCOME TO PRINCETON!" - Brick House Tavern at Market Fair
DESCRIPTION:This is our kickoff event for the 2025/2026 season in collaboration with the Harvard Alumni Association.  It introduces "The Club" to alumni who are new to the Princeton area and simultaneously welcomes current members back from their summer diversions.
BEGIN:VALARM
TRIGGER:-PT15M
ACTION:DISPLAY
END:VALARM
TRANSP:OPAQUE
END:VEVENT
END:VCALENDAR
