BEGIN:VCALENDAR
VERSION:2.0
PRODID:-//OmniMagnetCalendar//EN
BEGIN:VEVENT
DTSTAMP:20190625T195740Z
STATUS:CONFIRMED
UID:hcprinceton.clubs.harvard.edu654
DTSTART:20250605T170000Z
DTEND:20250605T180000Z
LOCATION:Virtual Event , NJ, 08648,
SUMMARY:HARVARD START UP WORLD CUP - INFO SESSION JUNE 5
DESCRIPTION:
BEGIN:VALARM
TRIGGER:-PT15M
ACTION:DISPLAY
END:VALARM
TRANSP:OPAQUE
END:VEVENT
END:VCALENDAR
