BEGIN:VCALENDAR
VERSION:2.0
PRODID:-//OmniMagnetCalendar//EN
BEGIN:VEVENT
DTSTAMP:20190625T195740Z
STATUS:CONFIRMED
UID:hcprinceton.clubs.harvard.edu645
DTSTART:20250912T210000Z
DTEND:
LOCATION:Witherspoon Grill - Outside Tables, Princeton, NJ, 08542,
SUMMARY:RECENT GRAD HARVARD TGIF - 6pm September 12
DESCRIPTION:If you graduated from Harvard in 2010 or later, join us for a special edition TGIF
BEGIN:VALARM
TRIGGER:-PT15M
ACTION:DISPLAY
END:VALARM
TRANSP:OPAQUE
END:VEVENT
END:VCALENDAR
