BEGIN:VCALENDAR
VERSION:2.0
PRODID:-//OmniMagnetCalendar//EN
BEGIN:VEVENT
DTSTAMP:20190625T195740Z
STATUS:CONFIRMED
UID:hcprinceton.clubs.harvard.edu643
DTSTART:20250509T230000Z
DTEND:
LOCATION:Private Residence in Princeton Area, United States,
SUMMARY:CRIMSON BOURBON TASTING - MAY 9
DESCRIPTION:Led by a "Bourbon Sommelier"
BEGIN:VALARM
TRIGGER:-PT15M
ACTION:DISPLAY
END:VALARM
TRANSP:OPAQUE
END:VEVENT
END:VCALENDAR
