BEGIN:VCALENDAR
VERSION:2.0
PRODID:-//OmniMagnetCalendar//EN
BEGIN:VEVENT
DTSTAMP:20190625T195740Z
STATUS:CONFIRMED
UID:hcprinceton.clubs.harvard.edu631
DTSTART:20250405T170000Z
DTEND:
LOCATION:Princeton (new vs old courts TBD), Princeton, NJ, 08544,
SUMMARY:HARVARD PRINCETON MEN'S TENNIS APRIL 5
DESCRIPTION:On Saturday April 5, the Harvard Men's Tennis Team takes on the Princeton Tigers.
BEGIN:VALARM
TRIGGER:-PT15M
ACTION:DISPLAY
END:VALARM
TRANSP:OPAQUE
END:VEVENT
END:VCALENDAR
