BEGIN:VCALENDAR
VERSION:2.0
PRODID:-//OmniMagnetCalendar//EN
BEGIN:VEVENT
DTSTAMP:20190625T195740Z
STATUS:CONFIRMED
UID:hcprinceton.clubs.harvard.edu625
DTSTART:20250213T233000Z
DTEND:
LOCATION:Startup Grind Princeton, 23 Orchard Road, Montgomery, NJ, 08558, United States,
SUMMARY:The 10 Legal Issues Every Business Founder Needs to Know
DESCRIPTION:A Masterclass Led by Dina Brewer (JD'92)
BEGIN:VALARM
TRIGGER:-PT15M
ACTION:DISPLAY
END:VALARM
TRANSP:OPAQUE
END:VEVENT
END:VCALENDAR
