BEGIN:VCALENDAR
VERSION:2.0
PRODID:-//OmniMagnetCalendar//EN
BEGIN:VEVENT
DTSTAMP:20190625T195740Z
STATUS:CONFIRMED
UID:hcprinceton.clubs.harvard.edu617
DTSTART:20250218T000000Z
DTEND:
LOCATION:Private Residence in Princeton, Princeton , NJ, 08542, United States,
SUMMARY:HARVARD CLUB OF PRINCETON BOOK CLUB - MONDAY FEBRUARY 17
DESCRIPTION:
BEGIN:VALARM
TRIGGER:-PT15M
ACTION:DISPLAY
END:VALARM
TRANSP:OPAQUE
END:VEVENT
END:VCALENDAR
