BEGIN:VCALENDAR
VERSION:2.0
PRODID:-//OmniMagnetCalendar//EN
BEGIN:VEVENT
DTSTAMP:20190625T195740Z
STATUS:CONFIRMED
UID:hcprinceton.clubs.harvard.edu602
DTSTART:20250215T000000Z
DTEND:
LOCATION:McCarter Theatre, 91 University Place, Princeton, NJ, 08540, United States of America,
SUMMARY:MANDY PATINKIN IN CONCERT: BEING ALIVE / SOLD OUT
DESCRIPTION:One night only!  Before he was an Emmy-winning TV star, Mandy Patinkin was already a Tony-winning Broadway legend. He will take you on a dazzling musical journey that you will never forget!
BEGIN:VALARM
TRIGGER:-PT15M
ACTION:DISPLAY
END:VALARM
TRANSP:OPAQUE
END:VEVENT
END:VCALENDAR
