BEGIN:VCALENDAR
VERSION:2.0
PRODID:-//OmniMagnetCalendar//EN
BEGIN:VEVENT
DTSTAMP:20190625T195740Z
STATUS:CONFIRMED
UID:hcprinceton.clubs.harvard.edu599
DTSTART:20250222T000000Z
DTEND:
LOCATION:
SUMMARY:HARVARD PRINCETON MEN'S BASKETBALL - SOLD OUT
DESCRIPTION:On Friday, February 21, the Harvard Men's Basketball Team takes on the Princeton Tigers.
BEGIN:VALARM
TRIGGER:-PT15M
ACTION:DISPLAY
END:VALARM
TRANSP:OPAQUE
END:VEVENT
END:VCALENDAR
