BEGIN:VCALENDAR
VERSION:2.0
PRODID:-//OmniMagnetCalendar//EN
BEGIN:VEVENT
DTSTAMP:20190625T195740Z
STATUS:CONFIRMED
UID:hcprinceton.clubs.harvard.edu595
DTSTART:20241208T223000Z
DTEND:
LOCATION:Pretty Brook Tennis Club, 229 Pretty Brook Rd , Princeton, NJ, 08540, United States of America,
SUMMARY:ANNUAL FALL “DINNER”: LIFE ON THE RUSSIAN COUNTRY ESTATE
DESCRIPTION:A Conversation with Priscilla Roosevelt
BEGIN:VALARM
TRIGGER:-PT15M
ACTION:DISPLAY
END:VALARM
TRANSP:OPAQUE
END:VEVENT
END:VCALENDAR
