BEGIN:VCALENDAR
VERSION:2.0
PRODID:-//OmniMagnetCalendar//EN
BEGIN:VEVENT
DTSTAMP:20190625T195740Z
STATUS:CONFIRMED
UID:hcprinceton.clubs.harvard.edu593
DTSTART:20241109T000000Z
DTEND:
LOCATION:
SUMMARY:HARVARD PRINCETON MEN'S ICE HOCKEY -SOLD OUT
DESCRIPTION:GAME ON! On Friday evening, November 8, the Harvard men's hockey team makes it annual visit to Princeton's Baker Rink to take on the Tigers.
BEGIN:VALARM
TRIGGER:-PT15M
ACTION:DISPLAY
END:VALARM
TRANSP:OPAQUE
END:VEVENT
END:VCALENDAR
