BEGIN:VCALENDAR
VERSION:2.0
PRODID:-//OmniMagnetCalendar//EN
BEGIN:VEVENT
DTSTAMP:20190625T195740Z
STATUS:CONFIRMED
UID:hcprinceton.clubs.harvard.edu588
DTSTART:20240920T230000Z
DTEND:
LOCATION:McCarter Theatre, 91 University Place, Princeton, NJ, 08540, United States of America,
SUMMARY:A TRIBUTE TO TONY BENNETT BY MICHAEL FEINSTEIN / SOLD OUT
DESCRIPTION:Don't miss this event where Michael Feinstein and the Carnegie Hall Ensemble will be celebrating the unparalleled legacy of the late, great Tony Bennett.
BEGIN:VALARM
TRIGGER:-PT15M
ACTION:DISPLAY
END:VALARM
TRANSP:OPAQUE
END:VEVENT
END:VCALENDAR
