BEGIN:VCALENDAR
VERSION:2.0
PRODID:-//OmniMagnetCalendar//EN
BEGIN:VEVENT
DTSTAMP:20190625T195740Z
STATUS:CONFIRMED
UID:hcprinceton.clubs.harvard.edu583
DTSTART:20240918T233000Z
DTEND:20240919T003000Z
LOCATION:Virtual Event via Zoom,
SUMMARY:*** REGIONAL HARVARD-RADCLIFFE CLUBS EVENT*** September 18 - Brown v. Board of Education
DESCRIPTION:Harvard Law School Professor Michael J. Klarman, Charles Warren Professor of Legal History, will share his insights into the Supreme Court Justices' deliberations and reconstruct why Brown v. Board of Education was such a difficult case to decide.
BEGIN:VALARM
TRIGGER:-PT15M
ACTION:DISPLAY
END:VALARM
TRANSP:OPAQUE
END:VEVENT
END:VCALENDAR
