BEGIN:VCALENDAR
VERSION:2.0
PRODID:-//OmniMagnetCalendar//EN
BEGIN:VEVENT
DTSTAMP:20190625T195740Z
STATUS:CONFIRMED
UID:hcprinceton.clubs.harvard.edu578
DTSTART:20240826T230000Z
DTEND:
LOCATION:Private Residence in Princeton, Princeton , NJ, 08542, United States,
SUMMARY:HARVARD CLUB OF PRINCETON BOOK CLUB - NEW DATE: MONDAY AUGUST 26
DESCRIPTION:The purpose of this book club is to engage with voices that speak to this moment.
BEGIN:VALARM
TRIGGER:-PT15M
ACTION:DISPLAY
END:VALARM
TRANSP:OPAQUE
END:VEVENT
END:VCALENDAR
