BEGIN:VCALENDAR
VERSION:2.0
PRODID:-//OmniMagnetCalendar//EN
BEGIN:VEVENT
DTSTAMP:20190625T195740Z
STATUS:CONFIRMED
UID:hcprinceton.clubs.harvard.edu571
DTSTART:20240517T210000Z
DTEND:
LOCATION:Yankee Doodle Tap Room in the Nassau Inn, Palmers Square, Princeton, NJ, 08542,
SUMMARY:HARVARD TGIF - May 17
DESCRIPTION:If you are interested in lively conversation and networking with fellow alumni, join us for TGIF.  We meet on the third Friday of each month.
BEGIN:VALARM
TRIGGER:-PT15M
ACTION:DISPLAY
END:VALARM
TRANSP:OPAQUE
END:VEVENT
END:VCALENDAR
