BEGIN:VCALENDAR
VERSION:2.0
PRODID:-//OmniMagnetCalendar//EN
BEGIN:VEVENT
DTSTAMP:20190625T195740Z
STATUS:CONFIRMED
UID:hcprinceton.clubs.harvard.edu567
DTSTART:20240426T230000Z
DTEND:
LOCATION:Barnes & Noble, 3535 US 1, Princeton, NJ, 08540, United States of America,
SUMMARY:AMERICAN NEGRA Book Event
DESCRIPTION:by Natasha Alford (AB '08)
BEGIN:VALARM
TRIGGER:-PT15M
ACTION:DISPLAY
END:VALARM
TRANSP:OPAQUE
END:VEVENT
END:VCALENDAR
