BEGIN:VCALENDAR
VERSION:2.0
PRODID:-//OmniMagnetCalendar//EN
BEGIN:VEVENT
DTSTAMP:20190625T195740Z
STATUS:CONFIRMED
UID:hcprinceton.clubs.harvard.edu564
DTSTART:20240608T213000Z
DTEND:
LOCATION:Trenton Thunder Ballpark, One Thunder Road, Trenton, NJ, 08611, United States of America,
SUMMARY:TAKE ME OUT TO THE BALL GAME
DESCRIPTION:Come with friends or bring the family to see the Trenton Thunder, New Jersey's Championship American Minor League baseball team from the comfort of a PRIVATE LUXURY SUITE OVERLOOKING THE FIRST BASE LINE!
BEGIN:VALARM
TRIGGER:-PT15M
ACTION:DISPLAY
END:VALARM
TRANSP:OPAQUE
END:VEVENT
END:VCALENDAR
