BEGIN:VCALENDAR
VERSION:2.0
PRODID:-//OmniMagnetCalendar//EN
BEGIN:VEVENT
DTSTAMP:20190625T195740Z
STATUS:CONFIRMED
UID:hcprinceton.clubs.harvard.edu563
DTSTART:20240425T233000Z
DTEND:
LOCATION:Newtown Theatre, 120 N State St, , Newtown, PA, 18940, United States of America,
SUMMARY:Fruitlands 1843
DESCRIPTION:A Film by Vasiliki Katsarou (AB '87)
BEGIN:VALARM
TRIGGER:-PT15M
ACTION:DISPLAY
END:VALARM
TRANSP:OPAQUE
END:VEVENT
END:VCALENDAR
