BEGIN:VCALENDAR
VERSION:2.0
PRODID:-//OmniMagnetCalendar//EN
BEGIN:VEVENT
DTSTAMP:20190625T195740Z
STATUS:CONFIRMED
UID:hcprinceton.clubs.harvard.edu560
DTSTART:20240421T170000Z
DTEND:20240421T200000Z
LOCATION:Princeton  Lenz Tennis Center, 12 Woodlands Wy., Princeton, NJ, 08544,
SUMMARY:HARVARD PRINCETON WOMEN'S TENNIS APRIL 21 (NO PREGAME)
DESCRIPTION:On Sunday April 21, the Harvard Women's Tennis Team takes on the Princeton Tigers.
BEGIN:VALARM
TRIGGER:-PT15M
ACTION:DISPLAY
END:VALARM
TRANSP:OPAQUE
END:VEVENT
END:VCALENDAR
