BEGIN:VCALENDAR
VERSION:2.0
PRODID:-//OmniMagnetCalendar//EN
BEGIN:VEVENT
DTSTAMP:20190625T195740Z
STATUS:CONFIRMED
UID:hcprinceton.clubs.harvard.edu558
DTSTART:20240318T230000Z
DTEND:
LOCATION:West Windsor Branch Library, 333 N Post Rd, Princeton Junction, NJ, 08550, United States,
SUMMARY:HARVARD CLUB OF PRINCETON BOOK CLUB - MONDAY MARCH 18
DESCRIPTION:
BEGIN:VALARM
TRIGGER:-PT15M
ACTION:DISPLAY
END:VALARM
TRANSP:OPAQUE
END:VEVENT
END:VCALENDAR
