BEGIN:VCALENDAR
VERSION:2.0
PRODID:-//OmniMagnetCalendar//EN
BEGIN:VEVENT
DTSTAMP:20190625T195740Z
STATUS:CONFIRMED
UID:hcprinceton.clubs.harvard.edu556
DTSTART:20240201T230000Z
DTEND:
LOCATION:Princeton Public Library , 65 Witherspoon St, Princeton, NJ, 08542, United States,
SUMMARY:How We Age: The Science of Longevity (Book Author Event)
DESCRIPTION:Labyrinth Books and the Princeton Public Library Present Coleen Murphy & Sam Wang to Discuss "How We Age: The Science of Longevity"
BEGIN:VALARM
TRIGGER:-PT15M
ACTION:DISPLAY
END:VALARM
TRANSP:OPAQUE
END:VEVENT
END:VCALENDAR
