BEGIN:VCALENDAR
VERSION:2.0
PRODID:-//OmniMagnetCalendar//EN
BEGIN:VEVENT
DTSTAMP:20190625T195740Z
STATUS:CONFIRMED
UID:hcprinceton.clubs.harvard.edu552
DTSTART:20240313T230000Z
DTEND:
LOCATION:TBD, United States,
SUMMARY:GLOBAL NETWORKING NIGHT
DESCRIPTION:This unique event is brings members of the Harvard community together on one night in cities all around the world to connect with fellow alumni and current students.  It's fun and it's free!
BEGIN:VALARM
TRIGGER:-PT15M
ACTION:DISPLAY
END:VALARM
TRANSP:OPAQUE
END:VEVENT
END:VCALENDAR
