BEGIN:VCALENDAR
VERSION:2.0
PRODID:-//OmniMagnetCalendar//EN
BEGIN:VEVENT
DTSTAMP:20190625T195740Z
STATUS:CONFIRMED
UID:hcprinceton.clubs.harvard.edu547
DTSTART:20240417T230000Z
DTEND:
LOCATION:McCarter Theatre, 91 University Place, Princeton, NJ, 08540, United States of America,
SUMMARY:LES BALLET TROCKADERO DE MONTE CARLO - 50th ANNIVERSARY
DESCRIPTION:World’s Foremost All-Male Comic Ballet Company celebrates 50 years of leaps and dancing en pointe...  And all for laughs.  Simply a comic masterpiece of a performance.
BEGIN:VALARM
TRIGGER:-PT15M
ACTION:DISPLAY
END:VALARM
TRANSP:OPAQUE
END:VEVENT
END:VCALENDAR
