BEGIN:VCALENDAR
VERSION:2.0
PRODID:-//OmniMagnetCalendar//EN
BEGIN:VEVENT
DTSTAMP:20190625T195740Z
STATUS:CONFIRMED
UID:hcprinceton.clubs.harvard.edu542
DTSTART:20231215T000000Z
DTEND:
LOCATION:McCarter Theatre, 91 University Place, Princeton, NJ, 08540, United States of America,
SUMMARY:THE ULTIMATE CHRISTMAS SHOW (ABRIDGED)
DESCRIPTION:Where Ho Ho Ho becomes Ha Ha Ha!  Don't miss the Annual Holiday Variety Show and Christmas Pageant at St. Everybody's Non-Denominational Church of Acceptance!
BEGIN:VALARM
TRIGGER:-PT15M
ACTION:DISPLAY
END:VALARM
TRANSP:OPAQUE
END:VEVENT
END:VCALENDAR
