BEGIN:VCALENDAR
VERSION:2.0
PRODID:-//OmniMagnetCalendar//EN
BEGIN:VEVENT
DTSTAMP:20190625T195740Z
STATUS:CONFIRMED
UID:hcprinceton.clubs.harvard.edu535
DTSTART:20240106T173000Z
DTEND:20240106T210000Z
LOCATION:
SUMMARY:HARVARD PRINCETON MEN'S BASKETBALL 1/6/24
DESCRIPTION:On Saturday, January 6, the Harvard Men's Basketball Team takes on the Princeton Tigers.  Only One Ticket Left!
BEGIN:VALARM
TRIGGER:-PT15M
ACTION:DISPLAY
END:VALARM
TRANSP:OPAQUE
END:VEVENT
END:VCALENDAR
