BEGIN:VCALENDAR
VERSION:2.0
PRODID:-//OmniMagnetCalendar//EN
BEGIN:VEVENT
DTSTAMP:20190625T195740Z
STATUS:CONFIRMED
UID:hcprinceton.clubs.harvard.edu534
DTSTART:20231230T193000Z
DTEND:20231230T233000Z
LOCATION:
SUMMARY:HARVARD PRINCETON MEN'S ICE HOCKEY - SOLD OUT
DESCRIPTION:GAME ON! On Saturday afternoon, December 30, the Harvard men's hockey team makes it annual visit to Princeton's Baker Rink to take on the Tigers.
BEGIN:VALARM
TRIGGER:-PT15M
ACTION:DISPLAY
END:VALARM
TRANSP:OPAQUE
END:VEVENT
END:VCALENDAR
