BEGIN:VCALENDAR
VERSION:2.0
PRODID:-//OmniMagnetCalendar//EN
BEGIN:VEVENT
DTSTAMP:20190625T195740Z
STATUS:CONFIRMED
UID:hcprinceton.clubs.harvard.edu529
DTSTART:20231103T113000Z
DTEND:
LOCATION:The Princetonian Diner, 3509 US Highway 1, Princeton, NJ, 08540, United States of America,
SUMMARY:HARVARD ENTREPRENEURS' BREAKFAST - November Topic - Block Chain Applications
DESCRIPTION:If you are an entrepreneur or someone interested in discussing innovations that you can apply to your career, join us for breakfast!  Victor Lee, Harvard College '78, will lead the discussion about Block Chain applications beyond crytocurrencies
BEGIN:VALARM
TRIGGER:-PT15M
ACTION:DISPLAY
END:VALARM
TRANSP:OPAQUE
END:VEVENT
END:VCALENDAR
