BEGIN:VCALENDAR
VERSION:2.0
PRODID:-//OmniMagnetCalendar//EN
BEGIN:VEVENT
DTSTAMP:20190625T195740Z
STATUS:CONFIRMED
UID:hcprinceton.clubs.harvard.edu525
DTSTART:20240307T003000Z
DTEND:
LOCATION:McCarter Theatre, 91 University Place, Princeton, NJ, 08540, United States of America,
SUMMARY:DREAMGIRLS
DESCRIPTION:This Broadway smash hit features dazzling costumes, powerhouse vocal performances, and unforgettable sparkling spirit and dance. It recounts the story of a 1960s Motown girl group rising from obscurity to superstardom. Don't miss it!!!
BEGIN:VALARM
TRIGGER:-PT15M
ACTION:DISPLAY
END:VALARM
TRANSP:OPAQUE
END:VEVENT
END:VCALENDAR
