BEGIN:VCALENDAR
VERSION:2.0
PRODID:-//OmniMagnetCalendar//EN
BEGIN:VEVENT
DTSTAMP:20190625T195740Z
STATUS:CONFIRMED
UID:hcprinceton.clubs.harvard.edu521
DTSTART:20231103T223000Z
DTEND:
LOCATION:Pretty Brook Tennis Club, 229 Pretty Brook Rd , Princeton, NJ, 08540, United States of America,
SUMMARY:ANNUAL FALL “DINNER”: A Conversation with Cecilia Rouse '86
DESCRIPTION:What Happens When Economists Go Into the Political Kitchen?: A Conversation with Cecilia Rouse '86
BEGIN:VALARM
TRIGGER:-PT15M
ACTION:DISPLAY
END:VALARM
TRANSP:OPAQUE
END:VEVENT
END:VCALENDAR
